BEGIN:VCALENDAR
VERSION:2.0
PRODID:-//Scrivener Solutions - ECPv6.15.20//NONSGML v1.0//EN
CALSCALE:GREGORIAN
METHOD:PUBLISH
X-WR-CALNAME:Scrivener Solutions
X-ORIGINAL-URL:https://scrivenersolutions.com
X-WR-CALDESC:Events for Scrivener Solutions
REFRESH-INTERVAL;VALUE=DURATION:PT1H
X-Robots-Tag:noindex
X-PUBLISHED-TTL:PT1H
BEGIN:VTIMEZONE
TZID:America/Chicago
BEGIN:DAYLIGHT
TZOFFSETFROM:-0600
TZOFFSETTO:-0500
TZNAME:CDT
DTSTART:20230312T080000
END:DAYLIGHT
BEGIN:STANDARD
TZOFFSETFROM:-0500
TZOFFSETTO:-0600
TZNAME:CST
DTSTART:20231105T070000
END:STANDARD
BEGIN:DAYLIGHT
TZOFFSETFROM:-0600
TZOFFSETTO:-0500
TZNAME:CDT
DTSTART:20240310T080000
END:DAYLIGHT
BEGIN:STANDARD
TZOFFSETFROM:-0500
TZOFFSETTO:-0600
TZNAME:CST
DTSTART:20241103T070000
END:STANDARD
BEGIN:DAYLIGHT
TZOFFSETFROM:-0600
TZOFFSETTO:-0500
TZNAME:CDT
DTSTART:20250309T080000
END:DAYLIGHT
BEGIN:STANDARD
TZOFFSETFROM:-0500
TZOFFSETTO:-0600
TZNAME:CST
DTSTART:20251102T070000
END:STANDARD
END:VTIMEZONE
BEGIN:VEVENT
DTSTART;TZID=America/Chicago:20241212T120000
DTEND;TZID=America/Chicago:20241212T130000
DTSTAMP:20260425T090819
CREATED:20241107T150915Z
LAST-MODIFIED:20241107T150915Z
UID:6627-1734004800-1734008400@scrivenersolutions.com
SUMMARY:Create Your Easy to Implement Content Marketing Plan
DESCRIPTION:Is your marketing strategy for 2025 still a blank slate?\nNow is the perfect time to craft your marketing plan for the year ahead.\nLet’s face it\, as a busy small business owner\, finding time for annual marketing planning can be tough. \nBut here’s the catch: before you know it\, you’re caught in a whirlwind of reacting to issues rather than confidently steering your own ship. It’s like trying to navigate without a map—thrilling\, perhaps\, but not the best way to reach our destination! \nMany of our fellow small business owners are so caught up in day-to-day operations that they don’t pause to look ahead. Little do they understand that creating a simple\, yet comprehensive marketing plan will actually simplify their daily tasks. \nThey’re often intimidated by the seemingly vast task of creating a comprehensive marketing plan and frequently don’t know how to approach it. As a result\, they procrastinate or avoid it altogether. \nHere’s the good news…\nCreating your annual marketing plan doesn’t have to be time-consuming or difficult.\n \nThink of your 2025 content marketing plan as your secret weapon to reduce stress and boost success all year long\, helping you hit your goals\, and putting you firmly in the driver’s seat of your business’s future. \nIn this Lunch & Learn\, you’ll discover: \n\nPractical tactics to efficiently plan your marketing for the entire year\nHow to create a comprehensive marketing roadmap that works for you\nSmart strategies to streamline your marketing implementation\n\nDon’t let marketing planning intimidate you – we promise to make the process both enjoyable and achievable! \nThis Lunch & Learn will equip you with the know-how to design a powerful\, yet manageable marketing strategy that will set the stage for your success in 2025. \nTake the first step towards a more organized\, effective\, and prosperous business year and register today. \nRegister for this FREE Lunch & Learn and discover practical tactics to efficiently plan your marketing for the entire year\, learn how to create a comprehensive marketing roadmap that works for you\, and explore smart strategies to streamline your marketing implementation.
URL:https://scrivenersolutions.com/event/create-your-easy-to-implement-content-marketing-plan/
LOCATION:Zoom
CATEGORIES:Accomplish More Workshop,Free Lunch & Learn Event
ATTACH;FMTTYPE=image/png:https://scrivenersolutions.com/wp-content/uploads/2024/11/Streamline-Your-Marketing-for-the-Year-Ahead-2.png
END:VEVENT
BEGIN:VEVENT
DTSTART;TZID=America/Chicago:20241017T120000
DTEND;TZID=America/Chicago:20241017T130000
DTSTAMP:20260425T090819
CREATED:20231211T200320Z
LAST-MODIFIED:20240702T134430Z
UID:6276-1729166400-1729170000@scrivenersolutions.com
SUMMARY:3 Easy Ways to Use AI to Streamline Your Social Media Management
DESCRIPTION:Learn how Artificial Intelligence (AI) can make your social media management more efficient. We will discuss three easy-to-implement strategies that leverage AI to help you streamline crafting your social posts yet still remain genuine in your brand messaging. These methods will not only save you valuable time but also improve the effectiveness of your social media marketing efforts.\n \nAccomplish More Workshops\nFree Marketing Lunch & Learn Events \nWith the multitude of strategies and platforms to consider\, marketing your business can often feel time consuming and overwhelming. \nThese free workshops aim to cut through the noise and focus on practical\, manageable marketing strategies that you can implement right away. \nWe’ll help you streamline your marketing implementation\, reducing stress and freeing up your time to focus on other aspects of your business. \nJoin us for these casual lunch and learn virtual workshops for constructive discussions\, expert advice\, and the opportunity to connect with like-minded business owners. \nWhether you’re just starting out or looking to improve your existing strategy\, these workshops will provide you with the tools you need to make your marketing and sales messaging more efficient and effective.
URL:https://scrivenersolutions.com/event/3-easy-ways-to-use-ai-to-streamline-your-social-media-management/
LOCATION:Zoom
CATEGORIES:Accomplish More Workshop,Free Lunch & Learn Event
ATTACH;FMTTYPE=image/jpeg:https://scrivenersolutions.com/wp-content/uploads/2023/12/SSol-Event-Banners-AI-to-Streamline.jpeg
END:VEVENT
BEGIN:VEVENT
DTSTART;TZID=America/Chicago:20240919T120000
DTEND;TZID=America/Chicago:20240919T130000
DTSTAMP:20260425T090819
CREATED:20231219T040432Z
LAST-MODIFIED:20240702T134458Z
UID:6299-1726747200-1726750800@scrivenersolutions.com
SUMMARY:The Art of Repurposing Website Content for Social Media
DESCRIPTION:We will cover practical strategies to adapt your website topics into various social media formats\, optimizing your content for each platform. This approach not only extends the life and reach of your website content but also saves you valuable time in content creation. By the end of the session\, you will have a clear idea of how to maximize your content’s potential and grow your social media presence.\n \nAccomplish More Workshops\nFree Marketing Lunch & Learn Events \nWith the multitude of strategies and platforms to consider\, marketing your business can often feel time consuming and overwhelming. \nThese free workshops aim to cut through the noise and focus on practical\, manageable marketing strategies that you can implement right away. \nWe’ll help you streamline your marketing implementation\, reducing stress and freeing up your time to focus on other aspects of your business. \nJoin us for these casual lunch and learn virtual workshops for constructive discussions\, expert advice\, and the opportunity to connect with like-minded business owners. \nWhether you’re just starting out or looking to improve your existing strategy\, these workshops will provide you with the tools you need to make your marketing and sales messaging more efficient and effective.
URL:https://scrivenersolutions.com/event/the-art-of-repurposing-website-content-for-social-media/
LOCATION:Zoom
CATEGORIES:Accomplish More Workshop,Free Lunch & Learn Event
ATTACH;FMTTYPE=image/jpeg:https://scrivenersolutions.com/wp-content/uploads/2023/12/SSol-Event-Banners-Repurpose-Content.jpeg
END:VEVENT
BEGIN:VEVENT
DTSTART;TZID=America/Chicago:20240815T120000
DTEND;TZID=America/Chicago:20240815T130000
DTSTAMP:20260425T090819
CREATED:20240123T144731Z
LAST-MODIFIED:20240702T134534Z
UID:6335-1723723200-1723726800@scrivenersolutions.com
SUMMARY:Streamline Marketing & Sales Messages: Discover the Secret Ingredient
DESCRIPTION:Dive into the key strategies that can help streamline ALL your marketing and sales messages. We’ll reveal the ‘secret ingredient’ that makes all your communications with prospects significantly easier and clearer. This ingredient helps to clarify your brand’s message\, target your audience more effectively\, which ultimately contributes to the growth of your business.\n \nAccomplish More Workshops\nFree Marketing Lunch & Learn Events \nWith the multitude of strategies and platforms to consider\, marketing your business can often feel time consuming and overwhelming. \nThese free workshops aim to cut through the noise and focus on practical\, manageable marketing strategies that you can implement right away. \nWe’ll help you streamline your marketing implementation\, reducing stress and freeing up your time to focus on other aspects of your business. \nJoin us for these casual lunch and learn virtual workshops for constructive discussions\, expert advice\, and the opportunity to connect with like-minded business owners. \nWhether you’re just starting out or looking to improve your existing strategy\, these workshops will provide you with the tools you need to make your marketing and sales messaging more efficient and effective.
URL:https://scrivenersolutions.com/event/streamline-marketing-sales-messages/
LOCATION:Zoom
CATEGORIES:Accomplish More Workshop,Free Lunch & Learn Event
ATTACH;FMTTYPE=image/jpeg:https://scrivenersolutions.com/wp-content/uploads/2024/01/SSol-Event-Banners-Streamline-Messages-Secret-Ingredient.jpeg
END:VEVENT
BEGIN:VEVENT
DTSTART;TZID=America/Chicago:20240718T120000
DTEND;TZID=America/Chicago:20240718T130000
DTSTAMP:20260425T090819
CREATED:20231201T200033Z
LAST-MODIFIED:20240702T135629Z
UID:6274-1721304000-1721307600@scrivenersolutions.com
SUMMARY:Leverage LinkedIn Newsletters for Extended Reach
DESCRIPTION:Learn how to effectively use LinkedIn newsletters to reach a broader audience. We’ll discuss the how you can repurpose some of your existing content\, setting-up\, publishing\, and monitoring the performance of your newsletters to maximize their impact.\n\nAccomplish More Workshops\nFree Marketing Lunch & Learn Events \nWith the multitude of strategies and platforms to consider\, marketing your business can often feel time consuming and overwhelming. \nThese free workshops aim to cut through the noise and focus on practical\, manageable marketing strategies that you can implement right away. \nWe’ll help you streamline your marketing implementation\, reducing stress and freeing up your time to focus on other aspects of your business. \nJoin us for these casual lunch and learn virtual workshops for constructive discussions\, expert advice\, and the opportunity to connect with like-minded business owners. \nWhether you’re just starting out or looking to improve your existing strategy\, these workshops will provide you with the tools you need to make your marketing and sales messaging more efficient and effective.
URL:https://scrivenersolutions.com/event/leverage-linkedin-newsletters-for-extended-reach/
LOCATION:Zoom
CATEGORIES:Accomplish More Workshop,Free Lunch & Learn Event
ATTACH;FMTTYPE=image/jpeg:https://scrivenersolutions.com/wp-content/uploads/2023/12/SSol-Event-Banners-Leverage-LinkedIn-Newsletters.jpeg
END:VEVENT
BEGIN:VEVENT
DTSTART;TZID=America/Chicago:20240516T110000
DTEND;TZID=America/Chicago:20240516T120000
DTSTAMP:20260425T090819
CREATED:20240320T143621Z
LAST-MODIFIED:20240402T000603Z
UID:6439-1715857200-1715860800@scrivenersolutions.com
SUMMARY:3 Easy Ways to Use AI to Streamline Your Social Media Management
DESCRIPTION:As a busy small business owner\, you wear many hats. It’s easy to feel overwhelmed by the mountain of tasks demanding your attention. \nUnderstandably\, social media management often gets pushed to the back burner\, making consistent posting a challenge. However\, you shouldn’t have to be a full-time social media manager on top of running your business. \nWhat you need is an efficient system to supercharge your social media marketing. With the right plan\, workflow\, and tool\, you can schedule a month’s worth of social posts in under two hours\, just once a month. \nJoin our free training where we’ll cover three ways to streamline your social media posting. Use the power of AI to automate and enhance your social media content creation process. \nLearn streamlined methods of using: \n\nGoogle’s ‘Help Me Write’ feature\,\nCanva’s AI generated images\, and\nScrivener Social’s AI generated post caption feature\n\nThese techniques can drastically reduce time spent on research and content creation. \nThis training event is the perfect opportunity to learn how to effectively leverage these AI tools for your small business\, save time and effort\, and boost your brand’s online presence. \nThis streamlined approach to social media management is an investment in your business. \nRather than struggling with managing your social media alone\, learn an easy\, streamlined way to systemize it.
URL:https://scrivenersolutions.com/event/streamline-your-social-how-to-schedule-a-months-worth-of-social-posts-in-a-snap/
LOCATION:Zoom
CATEGORIES:Free Lunch & Learn Event
ATTACH;FMTTYPE=image/jpeg:https://scrivenersolutions.com/wp-content/uploads/2024/03/Using-AI-to-Schedule-a-Months-Worth-of-Social-Posts-in-a-Snap.jpg
END:VEVENT
BEGIN:VEVENT
DTSTART;TZID=America/Chicago:20240321T110000
DTEND;TZID=America/Chicago:20240321T120000
DTSTAMP:20260425T090819
CREATED:20231219T033702Z
LAST-MODIFIED:20240305T235319Z
UID:6294-1711018800-1711022400@scrivenersolutions.com
SUMMARY:Streamline Your Social: How to Schedule a Month's Worth of Social Posts in a Snap
DESCRIPTION:As a busy small business owner\, you wear many hats. It’s easy to feel overwhelmed by the multitude of tasks demanding your attention. \nDespite understanding the importance of social media for your business promotion\, finding time to maintain a consistent posting schedule can be a challenge. Outsourcing your social media management seems out of the question at this stage of your business\, so your left doing it yourself. \nWith social media management often pushed to the back burner\, it’s difficult to consistently post and make an impact. \nBut as a business owner\, you shouldn’t have to wear your social media manager hat 24/7. \nWhat you need is an efficient system to boost your social media marketing. \nWith the right plan\, workflow\, and tool\, you can schedule a month’s worth of social posts in under two hours\, once a month. \nJoin our free webinar to learn: \n\nTo create a social plan for success\nPlan posts for efficiency\nSchedule posts for consistency\n\nYou could continue struggling with social media management on your own\, or you can learn an easy\, streamlined way to systemize it. \nStop the constant grind and start running a business that allows you to live full and work fun.
URL:https://scrivenersolutions.com/event/streamline-your-social/
LOCATION:Zoom
CATEGORIES:Free Lunch & Learn Event
ATTACH;FMTTYPE=image/png:https://scrivenersolutions.com/wp-content/uploads/2023/12/How-to-Schedule-a-Months-Worth-of-Social-Posts-in-a-Snap.png
END:VEVENT
BEGIN:VEVENT
DTSTART;TZID=America/Chicago:20240118T110000
DTEND;TZID=America/Chicago:20240118T120000
DTSTAMP:20260425T090819
CREATED:20231211T194238Z
LAST-MODIFIED:20231218T161834Z
UID:6268-1705575600-1705579200@scrivenersolutions.com
SUMMARY:Clarify Your Message to Grow Your Business
DESCRIPTION:Learn how to nail your marketing so your business will grow.\nAre you wasting money on marketing?\n \nWhat if you could spend less on marketing and sell more? \nLearn how to talk about what you do so customers will actually listen and take action. No more guessing about what works. \nLeave with a step-by-step plan you can implement now. Bring in more leads\, convert more customers and make more money. \n 
URL:https://scrivenersolutions.com/event/clarify-your-message-to-grow-your-business/
LOCATION:Zoom
CATEGORIES:Free Lunch & Learn Event
ATTACH;FMTTYPE=image/png:https://scrivenersolutions.com/wp-content/uploads/2023/12/Clarify-Your-Message-to-Grow-Your-Business-1.png
END:VEVENT
END:VCALENDAR